BEGIN:VCALENDAR
VERSION:2.0
CREATED:20260319T194910Z
PRODID:-//Rexford Industrial Realty\, Inc./Equisolve Calendar v1.0//EN
METHOD:PUBLISH
BEGIN:VEVENT
UID:afd6b0e93ed118f737edc3f9cffe3030
DTSTAMP:20260420T064258Z
DTSTART:20260424T150000Z
DTEND:20260424T160000Z
SUMMARY:First Quarter 2026 Earnings Conference Call
DESCRIPTION:First Quarter 2026 Earnings Conference Call\nDate: Apr. 24\, 2026 11:00 A.M. ET\nWebcast: https://events.q4inc.com/attendee/756573500
END:VEVENT
END:VCALENDAR
